BEGIN:VCALENDAR
VERSION:2.0
PRODID:-//AILU - The Association of Laser Users - ECPv6.15.14//NONSGML v1.0//EN
CALSCALE:GREGORIAN
METHOD:PUBLISH
X-ORIGINAL-URL:https://www.ailu.org.uk
X-WR-CALDESC:Events for AILU - The Association of Laser Users
REFRESH-INTERVAL;VALUE=DURATION:PT1H
X-Robots-Tag:noindex
X-PUBLISHED-TTL:PT1H
BEGIN:VTIMEZONE
TZID:Europe/London
BEGIN:DAYLIGHT
TZOFFSETFROM:+0000
TZOFFSETTO:+0100
TZNAME:BST
DTSTART:20210328T010000
END:DAYLIGHT
BEGIN:STANDARD
TZOFFSETFROM:+0100
TZOFFSETTO:+0000
TZNAME:GMT
DTSTART:20211031T010000
END:STANDARD
BEGIN:DAYLIGHT
TZOFFSETFROM:+0000
TZOFFSETTO:+0100
TZNAME:BST
DTSTART:20220327T010000
END:DAYLIGHT
BEGIN:STANDARD
TZOFFSETFROM:+0100
TZOFFSETTO:+0000
TZNAME:GMT
DTSTART:20221030T010000
END:STANDARD
BEGIN:DAYLIGHT
TZOFFSETFROM:+0000
TZOFFSETTO:+0100
TZNAME:BST
DTSTART:20230326T010000
END:DAYLIGHT
BEGIN:STANDARD
TZOFFSETFROM:+0100
TZOFFSETTO:+0000
TZNAME:GMT
DTSTART:20231029T010000
END:STANDARD
END:VTIMEZONE
BEGIN:VEVENT
DTSTART;TZID=Europe/London:20220426T070000
DTEND;TZID=Europe/London:20220429T160000
DTSTAMP:20260426T025034
CREATED:20220104T151822Z
LAST-MODIFIED:20220104T153839Z
UID:8915-1650956400-1651248000@www.ailu.org.uk
SUMMARY:Laser World of Photonics
DESCRIPTION:April 26–29\, 2022 | Messe München \nLASER World of PHOTONICS is looking forward to welcoming interested individuals\, trade press representatives and key players of the industry in 2022 \nhttps://world-of-photonics.com/
URL:https://www.ailu.org.uk/event/laser-world-of-photonics/
LOCATION:Messe München\, Munich\, Germany
ATTACH;FMTTYPE=image/jpeg:https://www.ailu.org.uk/wp-content/uploads/2022/01/Laser-WoP.jpg
END:VEVENT
END:VCALENDAR