BEGIN:VCALENDAR
VERSION:2.0
PRODID:-//AILU - The Association of Laser Users - ECPv6.15.14//NONSGML v1.0//EN
CALSCALE:GREGORIAN
METHOD:PUBLISH
X-WR-CALNAME:AILU - The Association of Laser Users
X-ORIGINAL-URL:https://www.ailu.org.uk
X-WR-CALDESC:Events for AILU - The Association of Laser Users
REFRESH-INTERVAL;VALUE=DURATION:PT1H
X-Robots-Tag:noindex
X-PUBLISHED-TTL:PT1H
BEGIN:VTIMEZONE
TZID:Europe/London
BEGIN:DAYLIGHT
TZOFFSETFROM:+0000
TZOFFSETTO:+0100
TZNAME:BST
DTSTART:20210328T010000
END:DAYLIGHT
BEGIN:STANDARD
TZOFFSETFROM:+0100
TZOFFSETTO:+0000
TZNAME:GMT
DTSTART:20211031T010000
END:STANDARD
BEGIN:DAYLIGHT
TZOFFSETFROM:+0000
TZOFFSETTO:+0100
TZNAME:BST
DTSTART:20220327T010000
END:DAYLIGHT
BEGIN:STANDARD
TZOFFSETFROM:+0100
TZOFFSETTO:+0000
TZNAME:GMT
DTSTART:20221030T010000
END:STANDARD
BEGIN:DAYLIGHT
TZOFFSETFROM:+0000
TZOFFSETTO:+0100
TZNAME:BST
DTSTART:20230326T010000
END:DAYLIGHT
BEGIN:STANDARD
TZOFFSETFROM:+0100
TZOFFSETTO:+0000
TZNAME:GMT
DTSTART:20231029T010000
END:STANDARD
END:VTIMEZONE
BEGIN:VEVENT
DTSTART;TZID=Europe/London:20220512T090000
DTEND;TZID=Europe/London:20220512T170000
DTSTAMP:20260426T024755
CREATED:20220425T145932Z
LAST-MODIFIED:20220425T150614Z
UID:10633-1652346000-1652374800@www.ailu.org.uk
SUMMARY:How to use Lasers and Digital Twins to Accelerate EV Manufacturing
DESCRIPTION:About this event \nLarge scale electrification of transport represents one of the biggest disruptive technologies in decades. In this scenario\, laser beam welding is a key tool for manufacturing of e-vehicles. This one-day event reviews some of the most established and ground-breaking novel laser concepts and beam delivery systems\, sensor technologies and closed-loop control strategies for laser beam welding. The event will also discuss current challenges and future perspectives towards the full digitalisation of laser beam welding\, in line with the current trend of Industry 4.0. \nOur agenda includes high-profile speakers from funding agencies (UKRI/APC UK)\, machine vendors (Coherent\, Lumentum\, Precitec) and end-users from both automotive and aerospace industry (Constellium\, JLR)\, together with software engineering specialists (Flow3D) and WMG researchers. A round-table discussion will be facilitated to establish a better vision of the future and define industrial needs and priorities. \n  \nHighlights \n\nDiscuss the industrial perspectives for the design of battery systems and e-motors\nLearn about up-coming breakthroughs in laser beam welding\nDemystify digital twins\nLearn from industrial success stories and use cases\n\n  \nWho should attend: \nThis event is suitable for industry practitioners (those involved in the supply chain for electric vehicles and OEMs) and Researchers. \n  \nFind out more at https://warwick.ac.uk/fac/sci/wmg/mediacentre/events/laserwelding/
URL:https://www.ailu.org.uk/event/how-to-use-lasers-and-digital-twins-to-accelerate-ev-manufacturing/
LOCATION:University of Warwick\, Coventry\, CV4 7AL\, United Kingdom
CATEGORIES:AILU - SUPPORTED EVENTS
ATTACH;FMTTYPE=image/jpeg:https://www.ailu.org.uk/wp-content/uploads/2022/04/Warwick-Uni-May-2022.jpg
END:VEVENT
END:VCALENDAR