BEGIN:VCALENDAR
VERSION:2.0
PRODID:-//AILU - The Association of Laser Users - ECPv6.15.14//NONSGML v1.0//EN
CALSCALE:GREGORIAN
METHOD:PUBLISH
X-ORIGINAL-URL:https://www.ailu.org.uk
X-WR-CALDESC:Events for AILU - The Association of Laser Users
REFRESH-INTERVAL;VALUE=DURATION:PT1H
X-Robots-Tag:noindex
X-PUBLISHED-TTL:PT1H
BEGIN:VTIMEZONE
TZID:Europe/London
BEGIN:DAYLIGHT
TZOFFSETFROM:+0000
TZOFFSETTO:+0100
TZNAME:BST
DTSTART:20210328T010000
END:DAYLIGHT
BEGIN:STANDARD
TZOFFSETFROM:+0100
TZOFFSETTO:+0000
TZNAME:GMT
DTSTART:20211031T010000
END:STANDARD
BEGIN:DAYLIGHT
TZOFFSETFROM:+0000
TZOFFSETTO:+0100
TZNAME:BST
DTSTART:20220327T010000
END:DAYLIGHT
BEGIN:STANDARD
TZOFFSETFROM:+0100
TZOFFSETTO:+0000
TZNAME:GMT
DTSTART:20221030T010000
END:STANDARD
BEGIN:DAYLIGHT
TZOFFSETFROM:+0000
TZOFFSETTO:+0100
TZNAME:BST
DTSTART:20230326T010000
END:DAYLIGHT
BEGIN:STANDARD
TZOFFSETFROM:+0100
TZOFFSETTO:+0000
TZNAME:GMT
DTSTART:20231029T010000
END:STANDARD
END:VTIMEZONE
BEGIN:VEVENT
DTSTART;TZID=Europe/London:20220614T100000
DTEND;TZID=Europe/London:20220615T170000
DTSTAMP:20260426T011952
CREATED:20220525T151736Z
LAST-MODIFIED:20220525T153828Z
UID:10894-1655200800-1655312400@www.ailu.org.uk
SUMMARY:AILU Member Event: TRUMPF Tube Webinars
DESCRIPTION:14/15 June 2022\nDesigners across manufacturing industry are increasingly taking advantage of the benefits of metal tube and profiles which are laser cut and welded.  This\, in turn\, is opening up huge commercial potential for the metalworking sector. \nTRUMPF has wide-ranging expertise in this field.  Through the development of its own comprehensive range of TruLaser Tube Machines TRUMPF has a unique perspective on the possibilities afforded by the technology. \nWebinar attendees will see how easy it is to programme tube parts on the newly enhanced TRUMPF programming tube software.  It links directly to the new TRUMPF TruLaser Tube 3000 on which the parts will be cut during the webinar. \nThe identical webinars will run from 10:00 am on 14th June 2022 and 2:00 pm on 15th June 2022.  After an initial 20 minutes presentation and machine demonstration\, attendees will then have the opportunity to talk directly to TRUMPF experts who will be able to answer questions on all aspects of laser tube and profiling cutting and its application. \nWhether you are a manufacturer\, cutting or welding tubes conventionally\, or one that is familiar with laser technology and looking for new business opportunities\, TRUMPF warmly invites you to sign-up for one of these free webinars. \n  \nTo register go to: \nOption 1: Tuesday 14th June 2022 at 10am: https://register.gotowebinar.com/register/732954665397540108 \n  \nOption 2: Wednesday 15th June 2022 at 2pm: https://register.gotowebinar.com/register/1358885744369648395
URL:https://www.ailu.org.uk/event/trumpf-tube-webinars/
LOCATION:Burbach
CATEGORIES:AILU MEMBER EVENTS
ATTACH;FMTTYPE=image/jpeg:https://www.ailu.org.uk/wp-content/uploads/2022/05/TGB977-TRUMPF-Digital-Tube-Webinars-June-2022.jpg
END:VEVENT
END:VCALENDAR