BEGIN:VCALENDAR
VERSION:2.0
PRODID:-//AILU - The Association of Laser Users - ECPv6.15.14//NONSGML v1.0//EN
CALSCALE:GREGORIAN
METHOD:PUBLISH
X-ORIGINAL-URL:https://www.ailu.org.uk
X-WR-CALDESC:Events for AILU - The Association of Laser Users
REFRESH-INTERVAL;VALUE=DURATION:PT1H
X-Robots-Tag:noindex
X-PUBLISHED-TTL:PT1H
BEGIN:VTIMEZONE
TZID:Europe/London
BEGIN:DAYLIGHT
TZOFFSETFROM:+0000
TZOFFSETTO:+0100
TZNAME:BST
DTSTART:20210328T010000
END:DAYLIGHT
BEGIN:STANDARD
TZOFFSETFROM:+0100
TZOFFSETTO:+0000
TZNAME:GMT
DTSTART:20211031T010000
END:STANDARD
BEGIN:DAYLIGHT
TZOFFSETFROM:+0000
TZOFFSETTO:+0100
TZNAME:BST
DTSTART:20220327T010000
END:DAYLIGHT
BEGIN:STANDARD
TZOFFSETFROM:+0100
TZOFFSETTO:+0000
TZNAME:GMT
DTSTART:20221030T010000
END:STANDARD
BEGIN:DAYLIGHT
TZOFFSETFROM:+0000
TZOFFSETTO:+0100
TZNAME:BST
DTSTART:20230326T010000
END:DAYLIGHT
BEGIN:STANDARD
TZOFFSETFROM:+0100
TZOFFSETTO:+0000
TZNAME:GMT
DTSTART:20231029T010000
END:STANDARD
END:VTIMEZONE
BEGIN:VEVENT
DTSTART;TZID=Europe/London:20220904T070000
DTEND;TZID=Europe/London:20220908T160000
DTSTAMP:20260425T204228
CREATED:20220104T154758Z
LAST-MODIFIED:20220816T114134Z
UID:8924-1662274800-1662652800@www.ailu.org.uk
SUMMARY:12th CIRP Conference on Photonic Technologies (LANE 2022)
DESCRIPTION:September 04-08\, 2022 in Fürth\, Germany \nModern research has to act on social\, economic and environmental developments to provide solutions for the existing and upcoming global challenges. For this reason\, LANE offers a platform for an international exchange of ideas\, opinions\, perspectives\, results and solutions concerning photonic technologies. In order to give a detailed overview\, the conference aims not only at scientific contributions\, but integrates the industrial perspective and their relevance for application as well. \nResearchers and developers from science and industry\, who gained interesting results in the field of laser material processing\, are welcome to submit an abstract for LANE 2022. After a virtual edition of LANE last year\, the organisers are looking forward to holding an on-site conference again in Fürth\, Germany\, and cordially invite all members of AILU to participate in the conference. \nThere will be a general discount of 10 % on the conference fees for AILU members. \nContributions will be reviewed by an international review committee. If finally accepted\, scientific papers will be published online in Elsevier’s open access journal Procedia CIRP on ScienceDirect (indexed in the Ei Compendex and Scopus databases). The current CiteScore of Procedia CIRP is 3.3. Application-oriented industrial papers will be published freely accessible and without limitations on the LANE website. During the LANE conference all accepted contributions will be presented personally by the authors. \nFor detailed information on submission and registration\, please visit the conference website www.lane-conference.org
URL:https://www.ailu.org.uk/event/12th-cirp-conference-on-photonic-technologies-lane-2022-2/
LOCATION:Fürth\, Germany
CATEGORIES:AILU - SUPPORTED EVENTS
ATTACH;FMTTYPE=image/jpeg:https://www.ailu.org.uk/wp-content/uploads/2022/01/LANE-logo.jpg
END:VEVENT
END:VCALENDAR