BEGIN:VCALENDAR
VERSION:2.0
PRODID:-//AILU - The Association of Laser Users - ECPv6.15.14//NONSGML v1.0//EN
CALSCALE:GREGORIAN
METHOD:PUBLISH
X-WR-CALNAME:AILU - The Association of Laser Users
X-ORIGINAL-URL:https://www.ailu.org.uk
X-WR-CALDESC:Events for AILU - The Association of Laser Users
REFRESH-INTERVAL;VALUE=DURATION:PT1H
X-Robots-Tag:noindex
X-PUBLISHED-TTL:PT1H
BEGIN:VTIMEZONE
TZID:Europe/London
BEGIN:DAYLIGHT
TZOFFSETFROM:+0000
TZOFFSETTO:+0100
TZNAME:BST
DTSTART:20210328T010000
END:DAYLIGHT
BEGIN:STANDARD
TZOFFSETFROM:+0100
TZOFFSETTO:+0000
TZNAME:GMT
DTSTART:20211031T010000
END:STANDARD
BEGIN:DAYLIGHT
TZOFFSETFROM:+0000
TZOFFSETTO:+0100
TZNAME:BST
DTSTART:20220327T010000
END:DAYLIGHT
BEGIN:STANDARD
TZOFFSETFROM:+0100
TZOFFSETTO:+0000
TZNAME:GMT
DTSTART:20221030T010000
END:STANDARD
BEGIN:DAYLIGHT
TZOFFSETFROM:+0000
TZOFFSETTO:+0100
TZNAME:BST
DTSTART:20230326T010000
END:DAYLIGHT
BEGIN:STANDARD
TZOFFSETFROM:+0100
TZOFFSETTO:+0000
TZNAME:GMT
DTSTART:20231029T010000
END:STANDARD
END:VTIMEZONE
BEGIN:VEVENT
DTSTART;TZID=Europe/London:20220929T093000
DTEND;TZID=Europe/London:20220929T160000
DTSTAMP:20260425T191332
CREATED:20220524T131947Z
LAST-MODIFIED:20220917T143713Z
UID:10884-1664443800-1664467200@www.ailu.org.uk
SUMMARY:AILU Workshop: High Power Laser Welding
DESCRIPTION:Sponsored by\n  \n \n  \n\nIntroduction\nChair: Wojciech Suder (Cranfield University) \nWith high power fibre lasers now well-established as the laser of choice for welding metals\, the thickness of laser welds in all metals is increasing. Keyhole welding\, with or without the assistance of arc welding (to make hybrid welds) is possible in material greater than 50 mm thick. On the other hand\, the high power lasers are capable of welding smaller thicknesses at very high speeds\, opening up new applications involving high quality and high throughput reflective metals like copper and aluminium. \nThis workshop is aimed at sharing the latest results from researchers and manufacturers in the field of laser welding in the multi-kW regime. As price per watt continues to fall and wall-plug efficiency improves\, the inherent viability of laser welding and the ease with which it can be automated makes it more and more the process of choice. \nA range of speakers will present and exhibitors offering products to this market will be on hand to share information about their capabilities.  The MTC is located conveniently for the M6 motorway\, between Coventry and Rugby and delegates will be able to tour the facilities at the end of the workshop. \n  \nProgramme\n09:30 – 10:00  Registration \n10:00  – 10:10   Welcome & Introduction\nWojciech Suder\, Cranfield University  \n10:10 – 10:30  Insight into the latest material joining development at the MTC\nKevin Withers\, MTC \n10:30 – 10:50   Overview of Laser Welding – When to use it and when not\nGoncalo Pardal\, Cranfield University \n10:50 – 11:10   Utilising laser beam shaping technology to improve weld quality in high volume manufacturing for E mobility\nPasquale Franciosa\, Warwick University   \n11:10 – 11:40   Break \n11:40 – 12:00  Dynamic Beam Lasers opening new parameters for laser welding\nMeir Giladi\, Civan Lasers\, Israel  \n12:00 – 12:20   High Power Laser Welding of Copper with and without Ultrasound\nPhil Carr\, Carrs Welding \n12:20 – 12:40  Using laser welding to manufacture industrial machine drive belts\nPeter Brown\, Laser Additive Solutions \n12:40 – 13:50   Lunch \n13:50 – 14:10  Laser Welding for Fusion Machines\nTristan Tremethick\, UKAEA \n14:10 – 14:30  A comparison of the electron beam welding and laser in vacuum welding process for low-medium penetration applications\nMax Nentwich\, Cambridge Vacuum Engineering \n14:30 – 14:50  Industrial laser cladding with metal cored wires\nJihane Guenoun\, Welding Alloys\,  \n14:50 – 15:20   Break \n15:20 – 15:40 Beam Shaping Enhancements for Laser Welding\nCallum Wreford\, PowerPhotonic \n15:40 – 16:00   International Training & Qualification for high Power Laser Welding\nEurico Assuncao\, EWF\, Portugal \nTour of MTC \n  \nVenue\nManufacturingTechnology Centre (MTC)\nAnsty Park\nCoventry\nCV7 9JU \nGetting to the MTC \n\nLocation/parking\nMTC Location/parking \n  \nMain image courtesy Cranfield University
URL:https://www.ailu.org.uk/event/high-power-laser-welding-workshop/
LOCATION:MTC\, Ansty Park\, Coventry\, CV7 9JU\, United Kingdom
CATEGORIES:AILU EVENTS
ATTACH;FMTTYPE=image/jpeg:https://www.ailu.org.uk/wp-content/uploads/2022/05/Cranfield-welding-image-website-crop.jpg
ORGANIZER;CN="AILU":MAILTO:events@ailu.org.uk
END:VEVENT
END:VCALENDAR