BEGIN:VCALENDAR
VERSION:2.0
PRODID:-//AILU - The Association of Laser Users - ECPv6.15.14//NONSGML v1.0//EN
CALSCALE:GREGORIAN
METHOD:PUBLISH
X-WR-CALNAME:AILU - The Association of Laser Users
X-ORIGINAL-URL:https://www.ailu.org.uk
X-WR-CALDESC:Events for AILU - The Association of Laser Users
REFRESH-INTERVAL;VALUE=DURATION:PT1H
X-Robots-Tag:noindex
X-PUBLISHED-TTL:PT1H
BEGIN:VTIMEZONE
TZID:Europe/London
BEGIN:DAYLIGHT
TZOFFSETFROM:+0000
TZOFFSETTO:+0100
TZNAME:BST
DTSTART:20210328T010000
END:DAYLIGHT
BEGIN:STANDARD
TZOFFSETFROM:+0100
TZOFFSETTO:+0000
TZNAME:GMT
DTSTART:20211031T010000
END:STANDARD
BEGIN:DAYLIGHT
TZOFFSETFROM:+0000
TZOFFSETTO:+0100
TZNAME:BST
DTSTART:20220327T010000
END:DAYLIGHT
BEGIN:STANDARD
TZOFFSETFROM:+0100
TZOFFSETTO:+0000
TZNAME:GMT
DTSTART:20221030T010000
END:STANDARD
BEGIN:DAYLIGHT
TZOFFSETFROM:+0000
TZOFFSETTO:+0100
TZNAME:BST
DTSTART:20230326T010000
END:DAYLIGHT
BEGIN:STANDARD
TZOFFSETFROM:+0100
TZOFFSETTO:+0000
TZNAME:GMT
DTSTART:20231029T010000
END:STANDARD
END:VTIMEZONE
BEGIN:VEVENT
DTSTART;TZID=Europe/London:20221005T090000
DTEND;TZID=Europe/London:20221006T170000
DTSTAMP:20260425T191300
CREATED:20220926T134246Z
LAST-MODIFIED:20220926T135856Z
UID:11834-1664960400-1665075600@www.ailu.org.uk
SUMMARY:Laser Safety Training by Pro-Lite Technology
DESCRIPTION:Pro-Lite Technology in association with laser safety experts LASERVISION are pleased to present our acclaimed laser safety training. The training is normally presented at the Pro-Lite offices at the Innovation Centre\, Cranfield University\, Bedfordshire but currently it is being presented remotely via the Microsoft Teams platform. \nSee here for more information: https://www.pro-lite.co.uk/File/laser_safety_tutorial.php \nModule A: Laser Safety Awareness Training \nThis module provides an awareness of laser safety and explains the risks\, your rights and your responsibilities when working with lasers. The first day training provides an easily-digestible training on the basic physics of lasers\, primary and secondary hazards\, legal requirements\, safety measures and the rights and responsibilities of laser users. The first day training is intended to be easily understood\, low on maths and perfect for those working with lasers in industry\, universities\, hospitals and research institutes who wish to keep up to date with laser safety. \n1. Theoretical Foundations of Laser Technology\n1.1 Principals of laser action\n1.2 Laser types\n1.3 Laser beam characteristics\n1.4 Detailed information on CO2\, Nd:YAG & diode lasers\n1.5 Example laser applications \n2. Primary Hazards\n2.1 Interaction of laser beams with biological tissue – hazards for skin and eyes\n2.2 Laser classes\, definition of AELs\n2.3 Definition of MPE – maximum permissible exposure\, worked example \n3. Secondary Hazards\n3.1 Human factors\n3.2 Outside influences\n3.3 Inherent hazards\n3.4 Emission \n4. Legal Basics\n4.1 Guidelines\, standards\, regulations\, accident prevention regulation \n5. Organisational Protective Measures \n6. Constructional & Technical Protective Measures \n7. Personal Protective Measures \n8. Laser Users\n8.1 Rights & duties\n8.2 Legal aspects\n8.3 Cooperation with laser safety specialists\n8.4 The importance of regular training \nModule B: Laser Safety Officer Training \nFor those that have completed Module A\, the laser safety officer training builds upon the general laser safety training and explains the legal and legislative framework that applies to the safe use of lasers\, the responsibilities and the duties of the designated laser safety officer. Delegates will also be expected to complete sample laser safety calculations. Please note that it is a requirement for organisations working with class 3B\, 3R and 4 lasers to appoint a named laser safety officer. Please refer to BS EN 60825 (part 14\, Users’ Guide) for further explanation. \n1. Review of Awareness Training (Day 1) \n2. Legal Aspects\n2.1 Guidelines\n2.2 Standards\n2.3 Regulations\n2.4 Accident provention directives \n3. Laser Safety Officer\n3.1 Responsibilities & duties\n3.2 Legal position in the company\n3.3 Cooperation with the laser safety officers \n4. Personal Protective Equipment \n5. Sample Calcluations\n5.1 MPE\n5.2 NOHD (Nominal Occular Hazard Distance)\n5.3 Laser classes \n6. Team Work \n7. Discussion
URL:https://www.ailu.org.uk/event/laser-safety-training-by-pro-lite/
LOCATION:Online
CATEGORIES:AILU MEMBER EVENTS
ATTACH;FMTTYPE=image/jpeg:https://www.ailu.org.uk/wp-content/uploads/2022/09/Laser-safety-training.jpg
END:VEVENT
END:VCALENDAR