BEGIN:VCALENDAR
VERSION:2.0
PRODID:-//AILU - The Association of Laser Users - ECPv6.15.14//NONSGML v1.0//EN
CALSCALE:GREGORIAN
METHOD:PUBLISH
X-ORIGINAL-URL:https://www.ailu.org.uk
X-WR-CALDESC:Events for AILU - The Association of Laser Users
REFRESH-INTERVAL;VALUE=DURATION:PT1H
X-Robots-Tag:noindex
X-PUBLISHED-TTL:PT1H
BEGIN:VTIMEZONE
TZID:Europe/London
BEGIN:DAYLIGHT
TZOFFSETFROM:+0000
TZOFFSETTO:+0100
TZNAME:BST
DTSTART:20210328T010000
END:DAYLIGHT
BEGIN:STANDARD
TZOFFSETFROM:+0100
TZOFFSETTO:+0000
TZNAME:GMT
DTSTART:20211031T010000
END:STANDARD
BEGIN:DAYLIGHT
TZOFFSETFROM:+0000
TZOFFSETTO:+0100
TZNAME:BST
DTSTART:20220327T010000
END:DAYLIGHT
BEGIN:STANDARD
TZOFFSETFROM:+0100
TZOFFSETTO:+0000
TZNAME:GMT
DTSTART:20221030T010000
END:STANDARD
BEGIN:DAYLIGHT
TZOFFSETFROM:+0000
TZOFFSETTO:+0100
TZNAME:BST
DTSTART:20230326T010000
END:DAYLIGHT
BEGIN:STANDARD
TZOFFSETFROM:+0100
TZOFFSETTO:+0000
TZNAME:GMT
DTSTART:20231029T010000
END:STANDARD
END:VTIMEZONE
BEGIN:VEVENT
DTSTART;TZID=Europe/London:20221017T130000
DTEND;TZID=Europe/London:20221020T220000
DTSTAMP:20260425T191511
CREATED:20220816T101246Z
LAST-MODIFIED:20220816T104518Z
UID:11422-1666011600-1666303200@www.ailu.org.uk
SUMMARY:ICALEO 2022
DESCRIPTION:Laser industry professionals from academic and industrial settings will gather to discuss the latest in laser additive manufacturing (LAM)\, laser macroprocessing\, laser microprocessing\, and laser nanomanufacturing. The Frontiers in Laser Applications track will cover additional topics like regional laser markets\, industry-specific applications\, and more. Topics range from the interaction between a laser beam and a material to how a process can be integrated and optimised for an application. \nFind out more: https://icaleo.org/
URL:https://www.ailu.org.uk/event/icaleo-2022/
LOCATION:Orlando\, Florida\, United States
ATTACH;FMTTYPE=image/jpeg:https://www.ailu.org.uk/wp-content/uploads/2022/08/icaleo.jpg
END:VEVENT
END:VCALENDAR