BEGIN:VCALENDAR
VERSION:2.0
PRODID:-//AILU - The Association of Laser Users - ECPv6.15.14//NONSGML v1.0//EN
CALSCALE:GREGORIAN
METHOD:PUBLISH
X-WR-CALNAME:AILU - The Association of Laser Users
X-ORIGINAL-URL:https://www.ailu.org.uk
X-WR-CALDESC:Events for AILU - The Association of Laser Users
REFRESH-INTERVAL;VALUE=DURATION:PT1H
X-Robots-Tag:noindex
X-PUBLISHED-TTL:PT1H
BEGIN:VTIMEZONE
TZID:Europe/London
BEGIN:DAYLIGHT
TZOFFSETFROM:+0000
TZOFFSETTO:+0100
TZNAME:BST
DTSTART:20220327T010000
END:DAYLIGHT
BEGIN:STANDARD
TZOFFSETFROM:+0100
TZOFFSETTO:+0000
TZNAME:GMT
DTSTART:20221030T010000
END:STANDARD
BEGIN:DAYLIGHT
TZOFFSETFROM:+0000
TZOFFSETTO:+0100
TZNAME:BST
DTSTART:20230326T010000
END:DAYLIGHT
BEGIN:STANDARD
TZOFFSETFROM:+0100
TZOFFSETTO:+0000
TZNAME:GMT
DTSTART:20231029T010000
END:STANDARD
BEGIN:DAYLIGHT
TZOFFSETFROM:+0000
TZOFFSETTO:+0100
TZNAME:BST
DTSTART:20240331T010000
END:DAYLIGHT
BEGIN:STANDARD
TZOFFSETFROM:+0100
TZOFFSETTO:+0000
TZNAME:GMT
DTSTART:20241027T010000
END:STANDARD
END:VTIMEZONE
BEGIN:VEVENT
DTSTART;TZID=Europe/London:20230524T090000
DTEND;TZID=Europe/London:20230524T160000
DTSTAMP:20260419T143753
CREATED:20230419T105235Z
LAST-MODIFIED:20230419T110905Z
UID:13524-1684918800-1684944000@www.ailu.org.uk
SUMMARY:MTC/BGA Technical Networking and Awareness Day on Laser Technology for Gearing
DESCRIPTION:Laser Technology for Gearing\nIn collaboration with Manufacturing Technology Centre (MTC) the British Gear Association (BGA) are holding Technical Networking and Awareness Day on Laser Technology for Gearing at MTC technical centre in Coventry on 24th May 2023. The MTC is part of the High Value Manufacturing Catapult (HVMC)\, which is supported by Innovate UK. The HVMC is the catalyst for the future growth and success of advanced manufacturing in the UK. It consists of seven technology and innovation centres across the UK and its vision is to work with companies of all sizes to bridge the gap from concept to commercialisation. \nFocus: Laser Technology for Gearing \nVenue: Manufacturing Technology Centre (MTC) – Coventry\, CV7 9JU \nDate: 24th May 2023 Time: 09:00 – 16:00 \nFree Attendance \n  \nAbout the Event\nThe Technical Awareness Day will include presentations on the topics below as well as machine demonstrations and tour of the MTC state of the art facility. \n• Laser Peening for improved performance \n• Development in laser surface texturing for improved tribological performance \n• Latest developments in metrology and measurement \n• Latest developments in laser-AM \n• Impact of Electrification and Net Zero on latest laser technology development \nThere will be plenty of opportunity to network with the leading Gear companies\, manufacturers\, distributors and academics. This will be your chance to share opportunities\, discuss challenges and promote your interests to likeminded people. Lunch will be provided. Please note places are limited and will be allocated on a first come first served basis so please book soon to avoid disappointment. \nTo reserve your FREE place online please visit: www.bga.org.uk \nYou can also book your place direct by emailing Kirsty & Lynne in the BGA office admin@bga.org.uk
URL:https://www.ailu.org.uk/event/technical-networking-and-awareness-day-on-laser-technology-for-gearing/
LOCATION:MTC\, Ansty Park\, Coventry\, CV7 9JU\, United Kingdom
CATEGORIES:AILU MEMBER EVENTS
ATTACH;FMTTYPE=image/jpeg:https://www.ailu.org.uk/wp-content/uploads/2023/04/MTC-building-image.jpg
ORGANIZER;CN="MTC & BGA":MAILTO:admin@bga.org.uk
END:VEVENT
END:VCALENDAR