BEGIN:VCALENDAR
VERSION:2.0
PRODID:-//AILU - The Association of Laser Users - ECPv6.15.14//NONSGML v1.0//EN
CALSCALE:GREGORIAN
METHOD:PUBLISH
X-ORIGINAL-URL:https://www.ailu.org.uk
X-WR-CALDESC:Events for AILU - The Association of Laser Users
REFRESH-INTERVAL;VALUE=DURATION:PT1H
X-Robots-Tag:noindex
X-PUBLISHED-TTL:PT1H
BEGIN:VTIMEZONE
TZID:Europe/London
BEGIN:DAYLIGHT
TZOFFSETFROM:+0000
TZOFFSETTO:+0100
TZNAME:BST
DTSTART:20240331T010000
END:DAYLIGHT
BEGIN:STANDARD
TZOFFSETFROM:+0100
TZOFFSETTO:+0000
TZNAME:GMT
DTSTART:20241027T010000
END:STANDARD
BEGIN:DAYLIGHT
TZOFFSETFROM:+0000
TZOFFSETTO:+0100
TZNAME:BST
DTSTART:20250330T010000
END:DAYLIGHT
BEGIN:STANDARD
TZOFFSETFROM:+0100
TZOFFSETTO:+0000
TZNAME:GMT
DTSTART:20251026T010000
END:STANDARD
BEGIN:DAYLIGHT
TZOFFSETFROM:+0000
TZOFFSETTO:+0100
TZNAME:BST
DTSTART:20260329T010000
END:DAYLIGHT
BEGIN:STANDARD
TZOFFSETFROM:+0100
TZOFFSETTO:+0000
TZNAME:GMT
DTSTART:20261025T010000
END:STANDARD
END:VTIMEZONE
BEGIN:VEVENT
DTSTART;TZID=Europe/London:20250521T133000
DTEND;TZID=Europe/London:20250521T143000
DTSTAMP:20260425T221704
CREATED:20250212T092240Z
LAST-MODIFIED:20250513T145829Z
UID:18021-1747834200-1747837800@www.ailu.org.uk
SUMMARY:AILU's 31st Annual General Meeting 2025
DESCRIPTION:Notice of the 2025 Annual General Meeting\nThe 31st Annual General Meeting of the Association of Industrial Laser Users will take place from  on 21 May 2025 at AME\, Coventry. \nAILU Member Event\, free to attend. \n \nVenue\nAME\nBeresford Ave\nCoventry\nCV6 5LZ \n  \nPlease follow this link for information on security and parking https://www.ailu.org.uk/wp-content/uploads/2025/05/Getting-to-AME.pdf \n  \nDocuments\nNotice of AGM \nAgenda  \nMinutes of the last meeting \nAILU Accounts to 31 Oct 2024
URL:https://www.ailu.org.uk/event/ailus-31st-annual-general-meeting-2025/
LOCATION:AME\, Coventry\, Beresford Ave\, Coventry\, CV6 5LZ\, United Kingdom
CATEGORIES:Members only
ATTACH;FMTTYPE=image/jpeg:https://www.ailu.org.uk/wp-content/uploads/2025/04/agm-2025-website.jpg
END:VEVENT
END:VCALENDAR