BEGIN:VCALENDAR
VERSION:2.0
PRODID:-//AILU - The Association of Laser Users - ECPv6.15.14//NONSGML v1.0//EN
CALSCALE:GREGORIAN
METHOD:PUBLISH
X-WR-CALNAME:AILU - The Association of Laser Users
X-ORIGINAL-URL:https://www.ailu.org.uk
X-WR-CALDESC:Events for AILU - The Association of Laser Users
REFRESH-INTERVAL;VALUE=DURATION:PT1H
X-Robots-Tag:noindex
X-PUBLISHED-TTL:PT1H
BEGIN:VTIMEZONE
TZID:Europe/London
BEGIN:DAYLIGHT
TZOFFSETFROM:+0000
TZOFFSETTO:+0100
TZNAME:BST
DTSTART:20240331T010000
END:DAYLIGHT
BEGIN:STANDARD
TZOFFSETFROM:+0100
TZOFFSETTO:+0000
TZNAME:GMT
DTSTART:20241027T010000
END:STANDARD
BEGIN:DAYLIGHT
TZOFFSETFROM:+0000
TZOFFSETTO:+0100
TZNAME:BST
DTSTART:20250330T010000
END:DAYLIGHT
BEGIN:STANDARD
TZOFFSETFROM:+0100
TZOFFSETTO:+0000
TZNAME:GMT
DTSTART:20251026T010000
END:STANDARD
BEGIN:DAYLIGHT
TZOFFSETFROM:+0000
TZOFFSETTO:+0100
TZNAME:BST
DTSTART:20260329T010000
END:DAYLIGHT
BEGIN:STANDARD
TZOFFSETFROM:+0100
TZOFFSETTO:+0000
TZNAME:GMT
DTSTART:20261025T010000
END:STANDARD
END:VTIMEZONE
BEGIN:VEVENT
DTSTART;TZID=Europe/London:20250304T103000
DTEND;TZID=Europe/London:20250304T170000
DTSTAMP:20260420T154122
CREATED:20250108T142046Z
LAST-MODIFIED:20250108T142508Z
UID:17739-1741084200-1741107600@www.ailu.org.uk
SUMMARY:AILU Member Event: Smart Fibre Optic High Power Photonics (HiPPo) Industry Day
DESCRIPTION:The Optoelectronics Research Centre\, University of Southampton\, is delighted to invite you to the next HiPPo Industry Day\, a unique opportunity to connect with leading researchers and industry experts in the field of high-power photonics. \nThe event will take place on Tuesday 4 March 2025 at the University of Southampton. \nPlease register your attendance through this Eventbrite link – https://www.eventbrite.co.uk/e/hippos-industry-day-tickets \nYou can find more information about the event here. For more information about the HiPPo project\, please visit our website https://www.hippo-laser.co.uk/
URL:https://www.ailu.org.uk/event/ailu-member-event-hippo-industry-day-4-march-2025/
LOCATION:University of Southampton\, Highfield Campus\, Southampton\, United Kingdom
CATEGORIES:AILU MEMBER EVENTS
ATTACH;FMTTYPE=image/jpeg:https://www.ailu.org.uk/wp-content/uploads/2025/01/HiPPo-image.jpg
END:VEVENT
END:VCALENDAR